|SUCCESS| pw132551-132553 [PATCH] [v3,3/3] net/octeon_ep: add new fa
    dpdklab at iol.unh.edu 
    dpdklab at iol.unh.edu
       
    Thu Oct 12 06:35:11 CEST 2023
    
    
  
Test-Label: iol-compile-amd64-testing
Test-Status: SUCCESS
http://dpdk.org/patch/132553
_Testing PASS_
Submitter: Vamsi Attunuru <vattunuru at marvell.com>
Date: Wednesday, October 11 2023 12:53:46 
DPDK git baseline: Repo:dpdk
  Branch: master
  CommitID:a1934215a7691a86c55d415bd01ae8318581b67a
132551-132553 --> testing pass
Test environment and result as below:
+---------------------+--------------------+----------------------+
|     Environment     | dpdk_meson_compile | dpdk_mingw64_compile |
+=====================+====================+======================+
| FreeBSD 13          | PASS               | SKIPPED              |
+---------------------+--------------------+----------------------+
| Windows Server 2019 | PASS               | PASS                 |
+---------------------+--------------------+----------------------+
FreeBSD 13
	Kernel: 13.0
	Compiler: clang 11.0.1
Windows Server 2019
	Kernel: 10.0
	Compiler: clang 14.0 and gcc 8.1.0 (MinGW)
To view detailed results, visit:
https://lab.dpdk.org/results/dashboard/patchsets/27909/
UNH-IOL DPDK Community Lab
To manage your email subscriptions, visit: 
https://lab.dpdk.org/results/dashboard/preferences/subscriptions/
    
    
More information about the test-report
mailing list