|SUCCESS| [GIT MASTER] 64b86ec39b328c4a3f7305e233a9399092c0a419
    dpdklab at iol.unh.edu 
    dpdklab at iol.unh.edu
       
    Thu Oct 12 20:48:12 CEST 2023
    
    
  
_Testing PASS_
Branch: dpdk-next-net
64b86ec39b328c4a3f7305e233a9399092c0a419 --> testing pass
Test environment and result as below:
+-----------------+--------------------+
|   Environment   | dpdk_meson_compile |
+=================+====================+
| FreeBSD 13      | PASS               |
+-----------------+--------------------+
| Debian Buster   | PASS               |
+-----------------+--------------------+
| Debian Bullseye | PASS               |
+-----------------+--------------------+
| CentOS Stream 9 | PASS               |
+-----------------+--------------------+
| CentOS Stream 8 | PASS               |
+-----------------+--------------------+
FreeBSD 13
	Kernel: 13.0
	Compiler: clang 11.0.1
Debian Buster
	Kernel: 5.4.0-122-generic
	Compiler: gcc 8.3.0-6
Debian Bullseye
	Kernel: 5.4.0-122-generic
	Compiler: gcc 10.2.1-6
CentOS Stream 9
	Kernel: 4.18.0-240.10.1.el8_3.x86_64
	Compiler: gcc 11.3.1 20220421
CentOS Stream 8
	Kernel: 4.18.0-240.10.1.el8_3.x86_64
	Compiler: gcc 8.4.1 20200928
To view detailed results, visit:
https://lab.dpdk.org/results/dashboard/tarballs/26454/
UNH-IOL DPDK Community Lab
To manage your email subscriptions, visit: 
https://lab.dpdk.org/results/dashboard/preferences/subscriptions/
    
    
More information about the test-report
mailing list