|SUCCESS| [GIT MASTER] 77f913752a55c0262bfda99a1b69ca0bd804c6c7
dpdklab at iol.unh.edu
dpdklab at iol.unh.edu
Fri Oct 13 03:09:36 CEST 2023
_Testing PASS_
Branch: dpdk
77f913752a55c0262bfda99a1b69ca0bd804c6c7 --> testing pass
Test environment and result as below:
+-----------------+--------------------+
| Environment | dpdk_meson_compile |
+=================+====================+
| FreeBSD 13 | PASS |
+-----------------+--------------------+
| CentOS Stream 9 | PASS |
+-----------------+--------------------+
| Fedora 37 | PASS |
+-----------------+--------------------+
| Fedora 38 | PASS |
+-----------------+--------------------+
| Debian Buster | PASS |
+-----------------+--------------------+
| Debian Bullseye | PASS |
+-----------------+--------------------+
| CentOS Stream 8 | PASS |
+-----------------+--------------------+
| Ubuntu 22.04 | PASS |
+-----------------+--------------------+
FreeBSD 13
Kernel: 13.0
Compiler: clang 11.0.1
CentOS Stream 9
Kernel: 4.18.0-240.10.1.el8_3.x86_64
Compiler: gcc 11.3.1 20220421
Fedora 37
Kernel: Depends on container host system
Compiler: gcc 12.3.1
Fedora 38
Kernel: Depends on container host
Compiler: gcc 13.1.1
Debian Buster
Kernel: 5.4.0-122-generic
Compiler: gcc 8.3.0-6
Debian Bullseye
Kernel: 5.4.0-122-generic
Compiler: gcc 10.2.1-6
CentOS Stream 8
Kernel: 4.18.0-240.10.1.el8_3.x86_64
Compiler: gcc 8.4.1 20200928
Ubuntu 22.04
Kernel: 4.18.0-240.10.1.el8_3.x86_64
Compiler: gcc 11.3.0
To view detailed results, visit:
https://lab.dpdk.org/results/dashboard/tarballs/26456/
UNH-IOL DPDK Community Lab
To manage your email subscriptions, visit:
https://lab.dpdk.org/results/dashboard/preferences/subscriptions/
More information about the test-report
mailing list