|SUCCESS| pw132581 [PATCH] [v3] net/iavf: support no data path polli
dpdklab at iol.unh.edu
dpdklab at iol.unh.edu
Fri Oct 13 04:19:33 CEST 2023
Test-Label: iol-unit-amd64-testing
Test-Status: SUCCESS
http://dpdk.org/patch/132581
_Testing PASS_
Submitter: Mingjin Ye <mingjinx.ye at intel.com>
Date: Friday, October 13 2023 01:27:37
DPDK git baseline: Repo:dpdk-next-net-intel
Branch: master
CommitID:7c50ea8b57e25fe0c1ca01f87685e8e77e7ffadf
132581 --> testing pass
Test environment and result as below:
+-----------------+----------------+
| Environment | dpdk_unit_test |
+=================+================+
| CentOS Stream 9 | PASS |
+-----------------+----------------+
| Fedora 37 | PASS |
+-----------------+----------------+
| Debian Buster | PASS |
+-----------------+----------------+
| Debian Bullseye | PASS |
+-----------------+----------------+
CentOS Stream 9
Kernel: 4.18.0-240.10.1.el8_3.x86_64
Compiler: gcc 11.3.1 20220421
Fedora 37
Kernel: Depends on container host system
Compiler: gcc 12.3.1
Debian Buster
Kernel: 5.4.0-122-generic
Compiler: gcc 8.3.0-6
Debian Bullseye
Kernel: 5.4.0-122-generic
Compiler: gcc 10.2.1-6
To view detailed results, visit:
https://lab.dpdk.org/results/dashboard/patchsets/27917/
UNH-IOL DPDK Community Lab
To manage your email subscriptions, visit:
https://lab.dpdk.org/results/dashboard/preferences/subscriptions/
More information about the test-report
mailing list