|SUCCESS| pw132591-132601 [PATCH] [v3,11/11] net/nfp: refact the mes
    dpdklab at iol.unh.edu 
    dpdklab at iol.unh.edu
       
    Fri Oct 13 10:13:25 CEST 2023
    
    
  
Test-Label: iol-compile-amd64-testing
Test-Status: SUCCESS
http://dpdk.org/patch/132601
_Testing PASS_
Submitter: Chaoyong He <chaoyong.he at corigine.com>
Date: Friday, October 13 2023 06:06:53 
DPDK git baseline: Repo:dpdk
  Branch: master
  CommitID:77f913752a55c0262bfda99a1b69ca0bd804c6c7
132591-132601 --> testing pass
Test environment and result as below:
+---------------------+--------------------+----------------------+
|     Environment     | dpdk_meson_compile | dpdk_mingw64_compile |
+=====================+====================+======================+
| CentOS Stream 9     | PASS               | SKIPPED              |
+---------------------+--------------------+----------------------+
| FreeBSD 13          | PASS               | SKIPPED              |
+---------------------+--------------------+----------------------+
| Debian Buster       | PASS               | SKIPPED              |
+---------------------+--------------------+----------------------+
| Windows Server 2019 | PASS               | PASS                 |
+---------------------+--------------------+----------------------+
| CentOS Stream 8     | PASS               | SKIPPED              |
+---------------------+--------------------+----------------------+
CentOS Stream 9
	Kernel: 4.18.0-240.10.1.el8_3.x86_64
	Compiler: gcc 11.3.1 20220421
FreeBSD 13
	Kernel: 13.0
	Compiler: clang 11.0.1
Debian Buster
	Kernel: 5.4.0-122-generic
	Compiler: gcc 8.3.0-6
Windows Server 2019
	Kernel: 10.0
	Compiler: clang 14.0 and gcc 8.1.0 (MinGW)
CentOS Stream 8
	Kernel: 4.18.0-240.10.1.el8_3.x86_64
	Compiler: gcc 8.4.1 20200928
To view detailed results, visit:
https://lab.dpdk.org/results/dashboard/patchsets/27921/
UNH-IOL DPDK Community Lab
To manage your email subscriptions, visit: 
https://lab.dpdk.org/results/dashboard/preferences/subscriptions/
    
    
More information about the test-report
mailing list