|SUCCESS| pw132602 [PATCH] net/nfp: fix the Tx performance issue
    dpdklab at iol.unh.edu 
    dpdklab at iol.unh.edu
       
    Fri Oct 13 14:59:41 CEST 2023
    
    
  
Test-Label: iol-compile-amd64-testing
Test-Status: SUCCESS
http://dpdk.org/patch/132602
_Testing PASS_
Submitter: Chaoyong He <chaoyong.he at corigine.com>
Date: Friday, October 13 2023 07:46:53 
DPDK git baseline: Repo:dpdk
  Branch: master
  CommitID:77f913752a55c0262bfda99a1b69ca0bd804c6c7
132602 --> testing pass
Test environment and result as below:
+---------------------+--------------------+----------------------+
|     Environment     | dpdk_meson_compile | dpdk_mingw64_compile |
+=====================+====================+======================+
| FreeBSD 13          | PASS               | SKIPPED              |
+---------------------+--------------------+----------------------+
| CentOS Stream 9     | PASS               | SKIPPED              |
+---------------------+--------------------+----------------------+
| Windows Server 2019 | PASS               | PASS                 |
+---------------------+--------------------+----------------------+
FreeBSD 13
	Kernel: 13.0
	Compiler: clang 11.0.1
CentOS Stream 9
	Kernel: 4.18.0-240.10.1.el8_3.x86_64
	Compiler: gcc 11.3.1 20220421
Windows Server 2019
	Kernel: 10.0
	Compiler: clang 14.0 and gcc 8.1.0 (MinGW)
To view detailed results, visit:
https://lab.dpdk.org/results/dashboard/patchsets/27922/
UNH-IOL DPDK Community Lab
To manage your email subscriptions, visit: 
https://lab.dpdk.org/results/dashboard/preferences/subscriptions/
    
    
More information about the test-report
mailing list