|SUCCESS| [GIT MASTER] 77f913752a55c0262bfda99a1b69ca0bd804c6c7

dpdklab at iol.unh.edu dpdklab at iol.unh.edu
Fri Oct 13 18:01:49 CEST 2023


_Testing PASS_

Branch: dpdk-next-crypto

77f913752a55c0262bfda99a1b69ca0bd804c6c7 --> testing pass

Test environment and result as below:

+-----------------+----------------+
|   Environment   | dpdk_unit_test |
+=================+================+
| Fedora 38       | PASS           |
+-----------------+----------------+
| CentOS Stream 9 | PASS           |
+-----------------+----------------+
| CentOS Stream 8 | PASS           |
+-----------------+----------------+


Fedora 38
	Kernel: Depends on container host
	Compiler: clang 16.0.3

CentOS Stream 9
	Kernel: 4.18.0-240.10.1.el8_3.x86_64
	Compiler: gcc 11.3.1 20220421

CentOS Stream 8
	Kernel: 4.18.0-240.10.1.el8_3.x86_64
	Compiler: gcc 8.4.1 20200928

To view detailed results, visit:
https://lab.dpdk.org/results/dashboard/tarballs/26468/

UNH-IOL DPDK Community Lab

To manage your email subscriptions, visit: 
https://lab.dpdk.org/results/dashboard/preferences/subscriptions/


More information about the test-report mailing list