|SUCCESS| pw132608 [PATCH] [v2] ethdev: clarify device queue state a
    dpdklab at iol.unh.edu 
    dpdklab at iol.unh.edu
       
    Fri Oct 13 19:25:03 CEST 2023
    
    
  
Test-Label: iol-unit-arm64-testing
Test-Status: SUCCESS
http://dpdk.org/patch/132608
_Testing PASS_
Submitter: Ferruh Yigit <ferruh.yigit at amd.com>
Date: Friday, October 13 2023 15:57:23 
DPDK git baseline: Repo:dpdk-next-net
  Branch: master
  CommitID:64b86ec39b328c4a3f7305e233a9399092c0a419
132608 --> testing pass
Test environment and result as below:
+----------------------+---------------------------+------------------------------+--------------+
|     Environment      | cryptodev_sw_zuc_autotest | cryptodev_sw_snow3g_autotest | lpm_autotest |
+======================+===========================+==============================+==============+
| Debian 11 (arm)      | PASS                      | PASS                         | SKIPPED      |
+----------------------+---------------------------+------------------------------+--------------+
| Ubuntu 20.04 ARM SVE | SKIPPED                   | SKIPPED                      | PASS         |
+----------------------+---------------------------+------------------------------+--------------+
Debian 11 (arm)
	Kernel: Container Host Kernel
	Compiler: gcc 10.2.1
Ubuntu 20.04 ARM SVE
	Kernel: 5.4.0-80-generic
	Compiler: gcc 10.3.0 (Ubuntu 10.3.0-1ubuntu1~20.04)
To view detailed results, visit:
https://lab.dpdk.org/results/dashboard/patchsets/27927/
UNH-IOL DPDK Community Lab
To manage your email subscriptions, visit: 
https://lab.dpdk.org/results/dashboard/preferences/subscriptions/
    
    
More information about the test-report
mailing list