|SUCCESS| [GIT MASTER] 77f913752a55c0262bfda99a1b69ca0bd804c6c7
    dpdklab at iol.unh.edu 
    dpdklab at iol.unh.edu
       
    Sun Oct 15 02:56:49 CEST 2023
    
    
  
_Testing PASS_
Branch: dpdk
77f913752a55c0262bfda99a1b69ca0bd804c6c7 --> testing pass
Test environment and result as below:
+--------------+--------------------+
| Environment  | dpdk_meson_compile |
+==============+====================+
| FreeBSD 13   | PASS               |
+--------------+--------------------+
| Ubuntu 22.04 | PASS               |
+--------------+--------------------+
| Fedora 37    | PASS               |
+--------------+--------------------+
FreeBSD 13
	Kernel: 13.0
	Compiler: clang 11.0.1
Ubuntu 22.04
	Kernel: 4.18.0-240.10.1.el8_3.x86_64
	Compiler: gcc 11.3.0
Fedora 37
	Kernel: Depends on container host system
	Compiler: gcc 12.3.1
To view detailed results, visit:
https://lab.dpdk.org/results/dashboard/tarballs/26477/
UNH-IOL DPDK Community Lab
To manage your email subscriptions, visit: 
https://lab.dpdk.org/results/dashboard/preferences/subscriptions/
    
    
More information about the test-report
mailing list