|SUCCESS| pw132615 [PATCH] net/cnxk: fix separate callback for Rx fl
    dpdklab at iol.unh.edu 
    dpdklab at iol.unh.edu
       
    Mon Oct 16 09:51:40 CEST 2023
    
    
  
Test-Label: iol-unit-amd64-testing
Test-Status: SUCCESS
http://dpdk.org/patch/132615
_Testing PASS_
Submitter: Rahul Bhansali <rbhansali at marvell.com>
Date: Monday, October 16 2023 05:29:12 
DPDK git baseline: Repo:dpdk
  Branch: master
  CommitID:441e777b85f1ea1eb6a2a970ff5d5c8e027f520c
132615 --> testing pass
Test environment and result as below:
+---------------------+----------------+
|     Environment     | dpdk_unit_test |
+=====================+================+
| Windows Server 2019 | PASS           |
+---------------------+----------------+
| CentOS Stream 8     | PASS           |
+---------------------+----------------+
| CentOS Stream 9     | PASS           |
+---------------------+----------------+
| Debian Buster       | PASS           |
+---------------------+----------------+
Windows Server 2019
	Kernel: 10.0
	Compiler: clang 14.0 and gcc 8.1.0 (MinGW)
CentOS Stream 8
	Kernel: 4.18.0-240.10.1.el8_3.x86_64
	Compiler: gcc 8.4.1 20200928
CentOS Stream 9
	Kernel: 4.18.0-240.10.1.el8_3.x86_64
	Compiler: gcc 11.3.1 20220421
Debian Buster
	Kernel: 5.4.0-122-generic
	Compiler: gcc 8.3.0-6
To view detailed results, visit:
https://lab.dpdk.org/results/dashboard/patchsets/27933/
UNH-IOL DPDK Community Lab
To manage your email subscriptions, visit: 
https://lab.dpdk.org/results/dashboard/preferences/subscriptions/
    
    
More information about the test-report
mailing list