|SUCCESS| pw132689 [PATCH] net/cpfl: fix memory leak
    dpdklab at iol.unh.edu 
    dpdklab at iol.unh.edu
       
    Tue Oct 17 11:04:34 CEST 2023
    
    
  
Test-Label: iol-unit-amd64-testing
Test-Status: SUCCESS
http://dpdk.org/patch/132689
_Testing PASS_
Submitter: Xing, Beilei <beilei.xing at intel.com>
Date: Tuesday, October 17 2023 11:06:55 
DPDK git baseline: Repo:dpdk
  Branch: master
  CommitID:55bc9233a2065b3003e90710e4d139159f7c3ebf
132689 --> testing pass
Test environment and result as below:
+---------------------+----------------+
|     Environment     | dpdk_unit_test |
+=====================+================+
| Windows Server 2019 | PASS           |
+---------------------+----------------+
| CentOS Stream 8     | PASS           |
+---------------------+----------------+
| Fedora 37           | PASS           |
+---------------------+----------------+
Windows Server 2019
	Kernel: 10.0
	Compiler: clang 14.0 and gcc 8.1.0 (MinGW)
CentOS Stream 8
	Kernel: 4.18.0-240.10.1.el8_3.x86_64
	Compiler: gcc 8.4.1 20200928
Fedora 37
	Kernel: Depends on container host system
	Compiler: gcc 12.3.1
To view detailed results, visit:
https://lab.dpdk.org/results/dashboard/patchsets/27953/
UNH-IOL DPDK Community Lab
To manage your email subscriptions, visit: 
https://lab.dpdk.org/results/dashboard/preferences/subscriptions/
    
    
More information about the test-report
mailing list