|SUCCESS| [GIT MASTER] 4aa8315ee12e17785588fb9891306b9dee685d6b
dpdklab at iol.unh.edu
dpdklab at iol.unh.edu
Tue Oct 17 13:31:53 CEST 2023
_Testing PASS_
Branch: dpdk-next-eventdev
4aa8315ee12e17785588fb9891306b9dee685d6b --> testing pass
Test environment and result as below:
+-----------------+----------------+
| Environment | dpdk_unit_test |
+=================+================+
| CentOS Stream 9 | PASS |
+-----------------+----------------+
| Fedora 37 | PASS |
+-----------------+----------------+
| Debian Buster | PASS |
+-----------------+----------------+
| Fedora 38 | PASS |
+-----------------+----------------+
CentOS Stream 9
Kernel: 4.18.0-240.10.1.el8_3.x86_64
Compiler: gcc 11.3.1 20220421
Fedora 37
Kernel: Depends on container host system
Compiler: gcc 12.3.1
Debian Buster
Kernel: 5.4.0-122-generic
Compiler: gcc 8.3.0-6
Fedora 38
Kernel: Depends on container host
Compiler: gcc 13.1.1
To view detailed results, visit:
https://lab.dpdk.org/results/dashboard/tarballs/26512/
UNH-IOL DPDK Community Lab
To manage your email subscriptions, visit:
https://lab.dpdk.org/results/dashboard/preferences/subscriptions/
More information about the test-report
mailing list