|SUCCESS| pw132751 [PATCH] event/cnxk: fix symbol map

dpdklab at iol.unh.edu dpdklab at iol.unh.edu
Tue Oct 17 23:55:06 CEST 2023


Test-Label: iol-unit-arm64-testing
Test-Status: SUCCESS
http://dpdk.org/patch/132751

_Testing PASS_

Submitter: David Marchand <david.marchand at redhat.com>
Date: Tuesday, October 17 2023 12:35:59 
DPDK git baseline: Repo:dpdk-next-eventdev
  Branch: master
  CommitID:4aa8315ee12e17785588fb9891306b9dee685d6b

132751 --> testing pass

Test environment and result as below:

+----------------------+---------------------------+------------------------------+--------------+
|     Environment      | cryptodev_sw_zuc_autotest | cryptodev_sw_snow3g_autotest | lpm_autotest |
+======================+===========================+==============================+==============+
| Debian 11 (arm)      | PASS                      | PASS                         | SKIPPED      |
+----------------------+---------------------------+------------------------------+--------------+
| Ubuntu 20.04 ARM SVE | SKIPPED                   | SKIPPED                      | PASS         |
+----------------------+---------------------------+------------------------------+--------------+


Debian 11 (arm)
	Kernel: Container Host Kernel
	Compiler: gcc 10.2.1

Ubuntu 20.04 ARM SVE
	Kernel: 5.4.0-80-generic
	Compiler: gcc 10.3.0 (Ubuntu 10.3.0-1ubuntu1~20.04)

To view detailed results, visit:
https://lab.dpdk.org/results/dashboard/patchsets/27968/

UNH-IOL DPDK Community Lab

To manage your email subscriptions, visit: 
https://lab.dpdk.org/results/dashboard/preferences/subscriptions/


More information about the test-report mailing list