|SUCCESS| pw132828 [PATCH] [v2] net/cpfl: remove devargs from adapte
    dpdklab at iol.unh.edu 
    dpdklab at iol.unh.edu
       
    Wed Oct 18 12:01:12 CEST 2023
    
    
  
Test-Label: iol-compile-amd64-testing
Test-Status: SUCCESS
http://dpdk.org/patch/132828
_Testing PASS_
Submitter: Xing, Beilei <beilei.xing at intel.com>
Date: Wednesday, October 18 2023 10:55:45 
DPDK git baseline: Repo:dpdk
  Branch: master
  CommitID:5f9426b0618b7c2899f4d1444768f62739da1bce
132828 --> testing pass
Test environment and result as below:
+-----------------+--------------------+
|   Environment   | dpdk_meson_compile |
+=================+====================+
| FreeBSD 13      | PASS               |
+-----------------+--------------------+
| Debian Bullseye | PASS               |
+-----------------+--------------------+
| Debian Buster   | PASS               |
+-----------------+--------------------+
| Fedora 37       | PASS               |
+-----------------+--------------------+
| CentOS Stream 9 | PASS               |
+-----------------+--------------------+
FreeBSD 13
	Kernel: 13.0
	Compiler: clang 11.0.1
Debian Bullseye
	Kernel: 5.4.0-122-generic
	Compiler: gcc 10.2.1-6
Debian Buster
	Kernel: 5.4.0-122-generic
	Compiler: gcc 8.3.0-6
Fedora 37
	Kernel: Depends on container host system
	Compiler: gcc 12.3.1
CentOS Stream 9
	Kernel: 4.18.0-240.10.1.el8_3.x86_64
	Compiler: gcc 11.3.1 20220421
To view detailed results, visit:
https://lab.dpdk.org/results/dashboard/patchsets/27984/
UNH-IOL DPDK Community Lab
To manage your email subscriptions, visit: 
https://lab.dpdk.org/results/dashboard/preferences/subscriptions/
    
    
More information about the test-report
mailing list