|SUCCESS| pw132829 [PATCH] [v2] net/cpfl: fix memory leak
    dpdklab at iol.unh.edu 
    dpdklab at iol.unh.edu
       
    Wed Oct 18 13:31:58 CEST 2023
    
    
  
Test-Label: iol-unit-arm64-testing
Test-Status: SUCCESS
http://dpdk.org/patch/132829
_Testing PASS_
Submitter: Xing, Beilei <beilei.xing at intel.com>
Date: Wednesday, October 18 2023 14:27:23 
DPDK git baseline: Repo:dpdk
  Branch: master
  CommitID:5f9426b0618b7c2899f4d1444768f62739da1bce
132829 --> testing pass
Test environment and result as below:
+----------------------+---------------------------+------------------------------+--------------+
|     Environment      | cryptodev_sw_zuc_autotest | cryptodev_sw_snow3g_autotest | lpm_autotest |
+======================+===========================+==============================+==============+
| Debian 11 (arm)      | PASS                      | PASS                         | SKIPPED      |
+----------------------+---------------------------+------------------------------+--------------+
| Ubuntu 20.04 ARM SVE | SKIPPED                   | SKIPPED                      | PASS         |
+----------------------+---------------------------+------------------------------+--------------+
Debian 11 (arm)
	Kernel: Container Host Kernel
	Compiler: gcc 10.2.1
Ubuntu 20.04 ARM SVE
	Kernel: 5.4.0-80-generic
	Compiler: gcc 10.3.0 (Ubuntu 10.3.0-1ubuntu1~20.04)
To view detailed results, visit:
https://lab.dpdk.org/results/dashboard/patchsets/27985/
UNH-IOL DPDK Community Lab
To manage your email subscriptions, visit: 
https://lab.dpdk.org/results/dashboard/preferences/subscriptions/
    
    
More information about the test-report
mailing list