|SUCCESS| pw132895-132896 [PATCH] [v5,2/2] eventdev: fix missing dri
dpdklab at iol.unh.edu
dpdklab at iol.unh.edu
Thu Oct 19 07:07:02 CEST 2023
Test-Label: iol-unit-arm64-testing
Test-Status: SUCCESS
http://dpdk.org/patch/132896
_Testing PASS_
Submitter: Bruce Richardson <bruce.richardson at intel.com>
Date: Wednesday, October 18 2023 13:39:33
DPDK git baseline: Repo:dpdk
Branch: master
CommitID:d7b8b11866a7c4b5975eaedd15dcc9a6f0cd92ce
132895-132896 --> testing pass
Test environment and result as below:
+----------------------+------------------------------+---------------------------+--------------+
| Environment | cryptodev_sw_snow3g_autotest | cryptodev_sw_zuc_autotest | lpm_autotest |
+======================+==============================+===========================+==============+
| Debian 11 (arm) | PASS | PASS | SKIPPED |
+----------------------+------------------------------+---------------------------+--------------+
| Ubuntu 20.04 ARM SVE | SKIPPED | SKIPPED | PASS |
+----------------------+------------------------------+---------------------------+--------------+
Debian 11 (arm)
Kernel: Container Host Kernel
Compiler: gcc 10.2.1
Ubuntu 20.04 ARM SVE
Kernel: 5.4.0-80-generic
Compiler: gcc 10.3.0 (Ubuntu 10.3.0-1ubuntu1~20.04)
To view detailed results, visit:
https://lab.dpdk.org/results/dashboard/patchsets/27997/
UNH-IOL DPDK Community Lab
To manage your email subscriptions, visit:
https://lab.dpdk.org/results/dashboard/preferences/subscriptions/
More information about the test-report
mailing list