|SUCCESS| pw132987 [PATCH] ice: Increase L1 check interval to accoun
    dpdklab at iol.unh.edu 
    dpdklab at iol.unh.edu
       
    Fri Oct 20 00:43:44 CEST 2023
    
    
  
Test-Label: iol-unit-amd64-testing
Test-Status: SUCCESS
http://dpdk.org/patch/132987
_Testing PASS_
Submitter: Timothy Miskell <timothy.miskell at intel.com>
Date: Thursday, October 19 2023 16:38:46 
DPDK git baseline: Repo:dpdk
  Branch: master
  CommitID:d7b8b11866a7c4b5975eaedd15dcc9a6f0cd92ce
132987 --> testing pass
Test environment and result as below:
+-----------------+----------------+
|   Environment   | dpdk_unit_test |
+=================+================+
| CentOS Stream 8 | PASS           |
+-----------------+----------------+
| Debian Buster   | PASS           |
+-----------------+----------------+
| CentOS Stream 9 | PASS           |
+-----------------+----------------+
CentOS Stream 8
	Kernel: 4.18.0-240.10.1.el8_3.x86_64
	Compiler: gcc 8.4.1 20200928
Debian Buster
	Kernel: 5.4.0-122-generic
	Compiler: gcc 8.3.0-6
CentOS Stream 9
	Kernel: 4.18.0-240.10.1.el8_3.x86_64
	Compiler: gcc 11.3.1 20220421
To view detailed results, visit:
https://lab.dpdk.org/results/dashboard/patchsets/28010/
UNH-IOL DPDK Community Lab
To manage your email subscriptions, visit: 
https://lab.dpdk.org/results/dashboard/preferences/subscriptions/
    
    
More information about the test-report
mailing list