|SUCCESS| pw132987 [PATCH] ice: Increase L1 check interval to accoun

dpdklab at iol.unh.edu dpdklab at iol.unh.edu
Fri Oct 20 00:52:26 CEST 2023


Test-Label: iol-unit-arm64-testing
Test-Status: SUCCESS
http://dpdk.org/patch/132987

_Testing PASS_

Submitter: Timothy Miskell <timothy.miskell at intel.com>
Date: Thursday, October 19 2023 16:38:46 
DPDK git baseline: Repo:dpdk
  Branch: master
  CommitID:d7b8b11866a7c4b5975eaedd15dcc9a6f0cd92ce

132987 --> testing pass

Test environment and result as below:

+----------------------+--------------+------------------------------+---------------------------+
|     Environment      | lpm_autotest | cryptodev_sw_snow3g_autotest | cryptodev_sw_zuc_autotest |
+======================+==============+==============================+===========================+
| Ubuntu 20.04 ARM SVE | PASS         | SKIPPED                      | SKIPPED                   |
+----------------------+--------------+------------------------------+---------------------------+
| Debian 11 (arm)      | SKIPPED      | PASS                         | PASS                      |
+----------------------+--------------+------------------------------+---------------------------+


Ubuntu 20.04 ARM SVE
	Kernel: 5.4.0-80-generic
	Compiler: gcc 10.3.0 (Ubuntu 10.3.0-1ubuntu1~20.04)

Debian 11 (arm)
	Kernel: Container Host Kernel
	Compiler: gcc 10.2.1

To view detailed results, visit:
https://lab.dpdk.org/results/dashboard/patchsets/28010/

UNH-IOL DPDK Community Lab

To manage your email subscriptions, visit: 
https://lab.dpdk.org/results/dashboard/preferences/subscriptions/


More information about the test-report mailing list