|SUCCESS| pw133058 [PATCH] dmadev: add tracepoints at control path A

dpdklab at iol.unh.edu dpdklab at iol.unh.edu
Fri Oct 20 05:05:32 CEST 2023


Test-Label: iol-unit-amd64-testing
Test-Status: SUCCESS
http://dpdk.org/patch/133058

_Testing PASS_

Submitter: Chengwen Feng <fengchengwen at huawei.com>
Date: Friday, October 20 2023 02:21:36 
DPDK git baseline: Repo:dpdk
  Branch: master
  CommitID:2cd2cf0cc53a508c4bd951a980ec534a646260de

133058 --> testing pass

Test environment and result as below:

+-----------------+----------------+
|   Environment   | dpdk_unit_test |
+=================+================+
| Debian Bullseye | PASS           |
+-----------------+----------------+
| Fedora 38       | PASS           |
+-----------------+----------------+
| Fedora 37       | PASS           |
+-----------------+----------------+
| Debian Buster   | PASS           |
+-----------------+----------------+


Debian Bullseye
	Kernel: 5.4.0-122-generic
	Compiler: gcc 10.2.1-6

Fedora 38
	Kernel: Depends on container host
	Compiler: gcc 13.1.1

Fedora 37
	Kernel: Depends on container host system
	Compiler: gcc 12.3.1

Debian Buster
	Kernel: 5.4.0-122-generic
	Compiler: gcc 8.3.0-6

To view detailed results, visit:
https://lab.dpdk.org/results/dashboard/patchsets/28015/

UNH-IOL DPDK Community Lab

To manage your email subscriptions, visit: 
https://lab.dpdk.org/results/dashboard/preferences/subscriptions/


More information about the test-report mailing list