|SUCCESS| pw133030-133057 [PATCH] [v4,28/28] port: make API's stable

dpdklab at iol.unh.edu dpdklab at iol.unh.edu
Fri Oct 20 05:55:38 CEST 2023


Test-Label: iol-unit-arm64-testing
Test-Status: SUCCESS
http://dpdk.org/patch/133057

_Testing PASS_

Submitter: Stephen Hemminger <stephen at networkplumber.org>
Date: Thursday, October 19 2023 19:10:16 
DPDK git baseline: Repo:dpdk
  Branch: master
  CommitID:2cd2cf0cc53a508c4bd951a980ec534a646260de

133030-133057 --> testing pass

Test environment and result as below:

+--------------------------+--------------+---------------------------+----------------+
|       Environment        | lpm_autotest | cryptodev_sw_zuc_autotest | dpdk_unit_test |
+==========================+==============+===========================+================+
| Ubuntu 20.04 ARM SVE     | PASS         | SKIPPED                   | SKIPPED        |
+--------------------------+--------------+---------------------------+----------------+
| Debian 11 (arm)          | SKIPPED      | PASS                      | SKIPPED        |
+--------------------------+--------------+---------------------------+----------------+
| Debian 11 (Buster) (ARM) | SKIPPED      | SKIPPED                   | PASS           |
+--------------------------+--------------+---------------------------+----------------+
| Fedora 37 (ARM)          | SKIPPED      | SKIPPED                   | PASS           |
+--------------------------+--------------+---------------------------+----------------+


Ubuntu 20.04 ARM SVE
	Kernel: 5.4.0-80-generic
	Compiler: gcc 10.3.0 (Ubuntu 10.3.0-1ubuntu1~20.04)

Debian 11 (arm)
	Kernel: Container Host Kernel
	Compiler: gcc 10.2.1

Debian 11 (Buster) (ARM)
	Kernel: Container Host Kernel
	Compiler: gcc 10.2.1

Fedora 37 (ARM)
	Kernel: Depends on container host
	Compiler: gcc 12.3.1

To view detailed results, visit:
https://lab.dpdk.org/results/dashboard/patchsets/28014/

UNH-IOL DPDK Community Lab

To manage your email subscriptions, visit: 
https://lab.dpdk.org/results/dashboard/preferences/subscriptions/


More information about the test-report mailing list