|SUCCESS| pw133079-133104 [PATCH] [v5,26/26] cryptodev: mark older A

dpdklab at iol.unh.edu dpdklab at iol.unh.edu
Sat Oct 21 00:18:57 CEST 2023


Test-Label: iol-unit-arm64-testing
Test-Status: SUCCESS
http://dpdk.org/patch/133104

_Testing PASS_

Submitter: Stephen Hemminger <stephen at networkplumber.org>
Date: Friday, October 20 2023 20:57:59 
DPDK git baseline: Repo:dpdk
  Branch: master
  CommitID:2cd2cf0cc53a508c4bd951a980ec534a646260de

133079-133104 --> testing pass

Test environment and result as below:

+-----------------------+------------------------------+--------------+----------------+---------------------------+
|      Environment      | cryptodev_sw_snow3g_autotest | lpm_autotest | dpdk_unit_test | cryptodev_sw_zuc_autotest |
+=======================+==============================+==============+================+===========================+
| Debian 11 (arm)       | PASS                         | SKIPPED      | SKIPPED        | PASS                      |
+-----------------------+------------------------------+--------------+----------------+---------------------------+
| Ubuntu 20.04 ARM SVE  | SKIPPED                      | PASS         | SKIPPED        | SKIPPED                   |
+-----------------------+------------------------------+--------------+----------------+---------------------------+
| CentOS Stream 9 (ARM) | SKIPPED                      | SKIPPED      | PASS           | SKIPPED                   |
+-----------------------+------------------------------+--------------+----------------+---------------------------+


Debian 11 (arm)
	Kernel: Container Host Kernel
	Compiler: gcc 10.2.1

Ubuntu 20.04 ARM SVE
	Kernel: 5.4.0-80-generic
	Compiler: gcc 10.3.0 (Ubuntu 10.3.0-1ubuntu1~20.04)

CentOS Stream 9 (ARM)
	Kernel: Container Host Kernel
	Compiler: gcc 11.3.1

To view detailed results, visit:
https://lab.dpdk.org/results/dashboard/patchsets/28024/

UNH-IOL DPDK Community Lab

To manage your email subscriptions, visit: 
https://lab.dpdk.org/results/dashboard/preferences/subscriptions/


More information about the test-report mailing list