|SUCCESS| [GIT MASTER] 2cd2cf0cc53a508c4bd951a980ec534a646260de
dpdklab at iol.unh.edu
dpdklab at iol.unh.edu
Sat Oct 21 03:06:51 CEST 2023
_Testing PASS_
Branch: dpdk
2cd2cf0cc53a508c4bd951a980ec534a646260de --> testing pass
Test environment and result as below:
+------------------+----------------+
| Environment | dpdk_unit_test |
+==================+================+
| CentOS Stream 9 | PASS |
+------------------+----------------+
| CentOS Stream 8 | PASS |
+------------------+----------------+
| openSUSE Leap 15 | PASS |
+------------------+----------------+
CentOS Stream 9
Kernel: 4.18.0-240.10.1.el8_3.x86_64
Compiler: gcc 11.3.1 20220421
CentOS Stream 8
Kernel: 4.18.0-240.10.1.el8_3.x86_64
Compiler: gcc 8.4.1 20200928
openSUSE Leap 15
Kernel: 4.18.0-240.10.1.el8_3.x86_64
Compiler: gcc 7.5.0
To view detailed results, visit:
https://lab.dpdk.org/results/dashboard/tarballs/26587/
UNH-IOL DPDK Community Lab
To manage your email subscriptions, visit:
https://lab.dpdk.org/results/dashboard/preferences/subscriptions/
More information about the test-report
mailing list