|SUCCESS| [GIT MASTER] 2cd2cf0cc53a508c4bd951a980ec534a646260de
    dpdklab at iol.unh.edu 
    dpdklab at iol.unh.edu
       
    Sat Oct 21 03:08:27 CEST 2023
    
    
  
_Testing PASS_
Branch: dpdk
2cd2cf0cc53a508c4bd951a980ec534a646260de --> testing pass
Test environment and result as below:
+--------------------------+----------------+
|       Environment        | dpdk_unit_test |
+==========================+================+
| Fedora 38 (ARM)          | PASS           |
+--------------------------+----------------+
| Fedora 37 (ARM)          | PASS           |
+--------------------------+----------------+
| Debian 11 (Buster) (ARM) | PASS           |
+--------------------------+----------------+
Fedora 38 (ARM)
	Kernel: Depends on container host
	Compiler: gcc 13.1.1
Fedora 37 (ARM)
	Kernel: Depends on container host
	Compiler: gcc 12.3.1
Debian 11 (Buster) (ARM)
	Kernel: Container Host Kernel
	Compiler: gcc 10.2.1
To view detailed results, visit:
https://lab.dpdk.org/results/dashboard/tarballs/26587/
UNH-IOL DPDK Community Lab
To manage your email subscriptions, visit: 
https://lab.dpdk.org/results/dashboard/preferences/subscriptions/
    
    
More information about the test-report
mailing list