|SUCCESS| pw133105-133118 [PATCH] [v2,14/14] eal: make rte_version A

dpdklab at iol.unh.edu dpdklab at iol.unh.edu
Mon Oct 23 05:20:47 CEST 2023


Test-Label: iol-unit-arm64-testing
Test-Status: SUCCESS
http://dpdk.org/patch/133118

_Testing PASS_

Submitter: Stephen Hemminger <stephen at networkplumber.org>
Date: Friday, October 20 2023 21:41:19 
DPDK git baseline: Repo:dpdk
  Branch: master
  CommitID:2cd2cf0cc53a508c4bd951a980ec534a646260de

133105-133118 --> testing pass

Test environment and result as below:

+-----------------------+------------------------------+--------------+----------------+
|      Environment      | cryptodev_sw_snow3g_autotest | lpm_autotest | dpdk_unit_test |
+=======================+==============================+==============+================+
| Debian 11 (arm)       | PASS                         | SKIPPED      | SKIPPED        |
+-----------------------+------------------------------+--------------+----------------+
| Ubuntu 20.04 ARM SVE  | SKIPPED                      | PASS         | SKIPPED        |
+-----------------------+------------------------------+--------------+----------------+
| CentOS Stream 9 (ARM) | SKIPPED                      | SKIPPED      | PASS           |
+-----------------------+------------------------------+--------------+----------------+


Debian 11 (arm)
	Kernel: Container Host Kernel
	Compiler: gcc 10.2.1

Ubuntu 20.04 ARM SVE
	Kernel: 5.4.0-80-generic
	Compiler: gcc 10.3.0 (Ubuntu 10.3.0-1ubuntu1~20.04)

CentOS Stream 9 (ARM)
	Kernel: Container Host Kernel
	Compiler: gcc 11.3.1

To view detailed results, visit:
https://lab.dpdk.org/results/dashboard/patchsets/28025/

UNH-IOL DPDK Community Lab

To manage your email subscriptions, visit: 
https://lab.dpdk.org/results/dashboard/preferences/subscriptions/


More information about the test-report mailing list