|SUCCESS| pw133160-133161 [PATCH] [2/2] usertools/rss: add --info fl
    dpdklab at iol.unh.edu 
    dpdklab at iol.unh.edu
       
    Mon Oct 23 11:07:19 CEST 2023
    
    
  
Test-Label: iol-unit-arm64-testing
Test-Status: SUCCESS
http://dpdk.org/patch/133161
_Testing PASS_
Submitter: Robin Jarry <rjarry at redhat.com>
Date: Monday, October 23 2023 08:07:12 
DPDK git baseline: Repo:dpdk
  Branch: master
  CommitID:2cd2cf0cc53a508c4bd951a980ec534a646260de
133160-133161 --> testing pass
Test environment and result as below:
+--------------------------+---------------------------+------------------------------+--------------+----------------+
|       Environment        | cryptodev_sw_zuc_autotest | cryptodev_sw_snow3g_autotest | lpm_autotest | dpdk_unit_test |
+==========================+===========================+==============================+==============+================+
| Debian 11 (arm)          | PASS                      | PASS                         | SKIPPED      | SKIPPED        |
+--------------------------+---------------------------+------------------------------+--------------+----------------+
| Ubuntu 20.04 ARM SVE     | SKIPPED                   | SKIPPED                      | PASS         | SKIPPED        |
+--------------------------+---------------------------+------------------------------+--------------+----------------+
| CentOS Stream 9 (ARM)    | SKIPPED                   | SKIPPED                      | SKIPPED      | PASS           |
+--------------------------+---------------------------+------------------------------+--------------+----------------+
| Fedora 38 (ARM)          | SKIPPED                   | SKIPPED                      | SKIPPED      | PASS           |
+--------------------------+---------------------------+------------------------------+--------------+----------------+
| Debian 11 (Buster) (ARM) | SKIPPED                   | SKIPPED                      | SKIPPED      | PASS           |
+--------------------------+---------------------------+------------------------------+--------------+----------------+
| Ubuntu 20.04 (ARM)       | SKIPPED                   | SKIPPED                      | SKIPPED      | PASS           |
+--------------------------+---------------------------+------------------------------+--------------+----------------+
| Fedora 37 (ARM)          | SKIPPED                   | SKIPPED                      | SKIPPED      | PASS           |
+--------------------------+---------------------------+------------------------------+--------------+----------------+
Debian 11 (arm)
	Kernel: Container Host Kernel
	Compiler: gcc 10.2.1
Ubuntu 20.04 ARM SVE
	Kernel: 5.4.0-80-generic
	Compiler: gcc 10.3.0 (Ubuntu 10.3.0-1ubuntu1~20.04)
CentOS Stream 9 (ARM)
	Kernel: Container Host Kernel
	Compiler: gcc 11.3.1
Fedora 38 (ARM)
	Kernel: Depends on container host
	Compiler: gcc 13.1.1
Debian 11 (Buster) (ARM)
	Kernel: Container Host Kernel
	Compiler: gcc 10.2.1
Ubuntu 20.04 (ARM)
	Kernel: Container Host Kernel
	Compiler: gcc 9.4.0
Fedora 37 (ARM)
	Kernel: Depends on container host
	Compiler: gcc 12.3.1
To view detailed results, visit:
https://lab.dpdk.org/results/dashboard/patchsets/28033/
UNH-IOL DPDK Community Lab
To manage your email subscriptions, visit: 
https://lab.dpdk.org/results/dashboard/preferences/subscriptions/
    
    
More information about the test-report
mailing list