|SUCCESS| pw133123-133155 [PATCH] [v8,34/34] ml/cnxk: enable creatio
    dpdklab at iol.unh.edu 
    dpdklab at iol.unh.edu
       
    Mon Oct 23 13:34:01 CEST 2023
    
    
  
Test-Label: iol-unit-arm64-testing
Test-Status: SUCCESS
http://dpdk.org/patch/133155
_Testing PASS_
Submitter: Srikanth Yalavarthi <syalavarthi at marvell.com>
Date: Monday, October 23 2023 04:41:37 
DPDK git baseline: Repo:dpdk-next-net-mrvl
  Branch: master
  CommitID:2a18c524c1b0cecaa1b1d944493874c1cea249b2
133123-133155 --> testing pass
Test environment and result as below:
+--------------------------+----------------+--------------+---------------------------+
|       Environment        | dpdk_unit_test | lpm_autotest | cryptodev_sw_zuc_autotest |
+==========================+================+==============+===========================+
| Debian 11 (Buster) (ARM) | PASS           | SKIPPED      | SKIPPED                   |
+--------------------------+----------------+--------------+---------------------------+
| Fedora 37 (ARM)          | PASS           | SKIPPED      | SKIPPED                   |
+--------------------------+----------------+--------------+---------------------------+
| Fedora 38 (ARM)          | PASS           | SKIPPED      | SKIPPED                   |
+--------------------------+----------------+--------------+---------------------------+
| CentOS Stream 9 (ARM)    | PASS           | SKIPPED      | SKIPPED                   |
+--------------------------+----------------+--------------+---------------------------+
| Fedora 38 (ARM Clang)    | PASS           | SKIPPED      | SKIPPED                   |
+--------------------------+----------------+--------------+---------------------------+
| Ubuntu 20.04 (ARM)       | PASS           | SKIPPED      | SKIPPED                   |
+--------------------------+----------------+--------------+---------------------------+
| Ubuntu 20.04 ARM SVE     | SKIPPED        | PASS         | SKIPPED                   |
+--------------------------+----------------+--------------+---------------------------+
| Debian 11 (arm)          | SKIPPED        | SKIPPED      | PASS                      |
+--------------------------+----------------+--------------+---------------------------+
Debian 11 (Buster) (ARM)
	Kernel: Container Host Kernel
	Compiler: gcc 10.2.1
Fedora 37 (ARM)
	Kernel: Depends on container host
	Compiler: gcc 12.3.1
Fedora 38 (ARM)
	Kernel: Depends on container host
	Compiler: gcc 13.1.1
CentOS Stream 9 (ARM)
	Kernel: Container Host Kernel
	Compiler: gcc 11.3.1
Fedora 38 (ARM Clang)
	Kernel: Depends on container host
	Compiler: clang 16.0.3
Ubuntu 20.04 (ARM)
	Kernel: Container Host Kernel
	Compiler: gcc 9.4.0
Ubuntu 20.04 ARM SVE
	Kernel: 5.4.0-80-generic
	Compiler: gcc 10.3.0 (Ubuntu 10.3.0-1ubuntu1~20.04)
Debian 11 (arm)
	Kernel: Container Host Kernel
	Compiler: gcc 10.2.1
To view detailed results, visit:
https://lab.dpdk.org/results/dashboard/patchsets/28030/
UNH-IOL DPDK Community Lab
To manage your email subscriptions, visit: 
https://lab.dpdk.org/results/dashboard/preferences/subscriptions/
    
    
More information about the test-report
mailing list