|SUCCESS| pw133186-133194 [PATCH] [v6,9/9] examples/ntb: auto-genera

dpdklab at iol.unh.edu dpdklab at iol.unh.edu
Mon Oct 23 18:46:48 CEST 2023


Test-Label: iol-unit-arm64-testing
Test-Status: SUCCESS
http://dpdk.org/patch/133194

_Testing PASS_

Submitter: Bruce Richardson <bruce.richardson at intel.com>
Date: Monday, October 23 2023 13:15:52 
DPDK git baseline: Repo:dpdk
  Branch: master
  CommitID:2cd2cf0cc53a508c4bd951a980ec534a646260de

133186-133194 --> testing pass

Test environment and result as below:

+-----------------------+----------------+------------------------------+---------------------------+--------------+
|      Environment      | dpdk_unit_test | cryptodev_sw_snow3g_autotest | cryptodev_sw_zuc_autotest | lpm_autotest |
+=======================+================+==============================+===========================+==============+
| Fedora 38 (ARM)       | PASS           | SKIPPED                      | SKIPPED                   | SKIPPED      |
+-----------------------+----------------+------------------------------+---------------------------+--------------+
| CentOS Stream 9 (ARM) | PASS           | SKIPPED                      | SKIPPED                   | SKIPPED      |
+-----------------------+----------------+------------------------------+---------------------------+--------------+
| Fedora 37 (ARM)       | PASS           | SKIPPED                      | SKIPPED                   | SKIPPED      |
+-----------------------+----------------+------------------------------+---------------------------+--------------+
| Debian 11 (arm)       | SKIPPED        | PASS                         | PASS                      | SKIPPED      |
+-----------------------+----------------+------------------------------+---------------------------+--------------+
| Ubuntu 20.04 ARM SVE  | SKIPPED        | SKIPPED                      | SKIPPED                   | PASS         |
+-----------------------+----------------+------------------------------+---------------------------+--------------+


Fedora 38 (ARM)
	Kernel: Depends on container host
	Compiler: gcc 13.1.1

CentOS Stream 9 (ARM)
	Kernel: Container Host Kernel
	Compiler: gcc 11.3.1

Fedora 37 (ARM)
	Kernel: Depends on container host
	Compiler: gcc 12.3.1

Debian 11 (arm)
	Kernel: Container Host Kernel
	Compiler: gcc 10.2.1

Ubuntu 20.04 ARM SVE
	Kernel: 5.4.0-80-generic
	Compiler: gcc 10.3.0 (Ubuntu 10.3.0-1ubuntu1~20.04)

To view detailed results, visit:
https://lab.dpdk.org/results/dashboard/patchsets/28043/

UNH-IOL DPDK Community Lab

To manage your email subscriptions, visit: 
https://lab.dpdk.org/results/dashboard/preferences/subscriptions/


More information about the test-report mailing list