|SUCCESS| pw133175-133184 [PATCH] [v4,10/10] net/mlx5: support indir
dpdklab at iol.unh.edu
dpdklab at iol.unh.edu
Mon Oct 23 20:17:29 CEST 2023
Test-Label: iol-unit-amd64-testing
Test-Status: SUCCESS
http://dpdk.org/patch/133184
_Testing PASS_
Submitter: Gregory Etelson <getelson at nvidia.com>
Date: Monday, October 23 2023 12:42:25
DPDK git baseline: Repo:dpdk
Branch: master
CommitID:2cd2cf0cc53a508c4bd951a980ec534a646260de
133175-133184 --> testing pass
Test environment and result as below:
+-----------------+----------------+
| Environment | dpdk_unit_test |
+=================+================+
| CentOS Stream 9 | PASS |
+-----------------+----------------+
| Fedora 38 | PASS |
+-----------------+----------------+
| Debian Bullseye | PASS |
+-----------------+----------------+
| Debian Buster | PASS |
+-----------------+----------------+
| Fedora 37 | PASS |
+-----------------+----------------+
CentOS Stream 9
Kernel: 4.18.0-240.10.1.el8_3.x86_64
Compiler: gcc 11.3.1 20220421
Fedora 38
Kernel: Depends on container host
Compiler: gcc 13.1.1
Debian Bullseye
Kernel: 5.4.0-122-generic
Compiler: gcc 10.2.1-6
Debian Buster
Kernel: 5.4.0-122-generic
Compiler: gcc 8.3.0-6
Fedora 37
Kernel: Depends on container host system
Compiler: gcc 12.3.1
To view detailed results, visit:
https://lab.dpdk.org/results/dashboard/patchsets/28041/
UNH-IOL DPDK Community Lab
To manage your email subscriptions, visit:
https://lab.dpdk.org/results/dashboard/preferences/subscriptions/
More information about the test-report
mailing list