|SUCCESS| pw133205 [PATCH] [v5] bus/pci: fix legacy device IO port m
    dpdklab at iol.unh.edu 
    dpdklab at iol.unh.edu
       
    Tue Oct 24 04:43:14 CEST 2023
    
    
  
Test-Label: iol-unit-arm64-testing
Test-Status: SUCCESS
http://dpdk.org/patch/133205
_Testing PASS_
Submitter: Wenwu Ma <wenwux.ma at intel.com>
Date: Tuesday, October 24 2023 02:00:21 
DPDK git baseline: Repo:dpdk
  Branch: master
  CommitID:2a0557d1ea21c3f63a212385348c97c414970e81
133205 --> testing pass
Test environment and result as below:
+-----------------+------------------------------+---------------------------+----------------+
|   Environment   | cryptodev_sw_snow3g_autotest | cryptodev_sw_zuc_autotest | dpdk_unit_test |
+=================+==============================+===========================+================+
| Debian 11 (arm) | PASS                         | PASS                      | SKIPPED        |
+-----------------+------------------------------+---------------------------+----------------+
| Fedora 37 (ARM) | SKIPPED                      | SKIPPED                   | PASS           |
+-----------------+------------------------------+---------------------------+----------------+
Debian 11 (arm)
	Kernel: Container Host Kernel
	Compiler: gcc 10.2.1
Fedora 37 (ARM)
	Kernel: Depends on container host
	Compiler: gcc 12.3.1
To view detailed results, visit:
https://lab.dpdk.org/results/dashboard/patchsets/28048/
UNH-IOL DPDK Community Lab
To manage your email subscriptions, visit: 
https://lab.dpdk.org/results/dashboard/preferences/subscriptions/
    
    
More information about the test-report
mailing list