|SUCCESS| pw133277 [PATCH] net/mlx5: fix device checking for send to
dpdklab at iol.unh.edu
dpdklab at iol.unh.edu
Wed Oct 25 10:31:34 CEST 2023
Test-Label: iol-unit-arm64-testing
Test-Status: SUCCESS
http://dpdk.org/patch/133277
_Testing PASS_
Submitter: Jiawei Wang <jiaweiw at nvidia.com>
Date: Wednesday, October 25 2023 07:48:31
DPDK git baseline: Repo:dpdk
Branch: master
CommitID:2a0557d1ea21c3f63a212385348c97c414970e81
133277 --> testing pass
Test environment and result as below:
+--------------------------+----------------+
| Environment | dpdk_unit_test |
+==========================+================+
| CentOS Stream 9 (ARM) | PASS |
+--------------------------+----------------+
| Fedora 37 (ARM) | PASS |
+--------------------------+----------------+
| Debian 11 (Buster) (ARM) | PASS |
+--------------------------+----------------+
CentOS Stream 9 (ARM)
Kernel: Container Host Kernel
Compiler: gcc 11.3.1
Fedora 37 (ARM)
Kernel: Depends on container host
Compiler: gcc 12.3.1
Debian 11 (Buster) (ARM)
Kernel: Container Host Kernel
Compiler: gcc 10.2.1
To view detailed results, visit:
https://lab.dpdk.org/results/dashboard/patchsets/28059/
UNH-IOL DPDK Community Lab
To manage your email subscriptions, visit:
https://lab.dpdk.org/results/dashboard/preferences/subscriptions/
More information about the test-report
mailing list