|SUCCESS| pw133294-133302 [PATCH] [v6,10/10] net/mlx5: support indir
    dpdklab at iol.unh.edu 
    dpdklab at iol.unh.edu
       
    Wed Oct 25 16:15:41 CEST 2023
    
    
  
Test-Label: iol-unit-amd64-testing
Test-Status: SUCCESS
http://dpdk.org/patch/133302
_Testing PASS_
Submitter: Gregory Etelson <getelson at nvidia.com>
Date: Wednesday, October 25 2023 11:22:31 
DPDK git baseline: Repo:dpdk
  Branch: master
  CommitID:2a0557d1ea21c3f63a212385348c97c414970e81
133294-133302 --> testing pass
Test environment and result as below:
+------------------+----------------+
|   Environment    | dpdk_unit_test |
+==================+================+
| CentOS Stream 9  | PASS           |
+------------------+----------------+
| CentOS Stream 8  | PASS           |
+------------------+----------------+
| Debian Buster    | PASS           |
+------------------+----------------+
| Fedora 37        | PASS           |
+------------------+----------------+
| Debian Bullseye  | PASS           |
+------------------+----------------+
| Fedora 38        | PASS           |
+------------------+----------------+
| openSUSE Leap 15 | PASS           |
+------------------+----------------+
| Ubuntu 20.04     | PASS           |
+------------------+----------------+
CentOS Stream 9
	Kernel: 4.18.0-240.10.1.el8_3.x86_64
	Compiler: gcc 11.3.1 20220421
CentOS Stream 8
	Kernel: 4.18.0-240.10.1.el8_3.x86_64
	Compiler: gcc 8.4.1 20200928
Debian Buster
	Kernel: 5.4.0-122-generic
	Compiler: gcc 8.3.0-6
Fedora 37
	Kernel: Depends on container host system
	Compiler: gcc 12.3.1
Debian Bullseye
	Kernel: 5.4.0-122-generic
	Compiler: gcc 10.2.1-6
Fedora 38
	Kernel: Depends on container host
	Compiler: gcc 13.1.1
openSUSE Leap 15
	Kernel: 4.18.0-240.10.1.el8_3.x86_64
	Compiler: gcc 7.5.0
Ubuntu 20.04
	Kernel: 5.4.0-153-generic
	Compiler: gcc 9.4.0-1ubuntu1~20.04.1
To view detailed results, visit:
https://lab.dpdk.org/results/dashboard/patchsets/28067/
UNH-IOL DPDK Community Lab
To manage your email subscriptions, visit: 
https://lab.dpdk.org/results/dashboard/preferences/subscriptions/
    
    
More information about the test-report
mailing list