|SUCCESS| [GIT MASTER] b713c210cf40e20e55fb2a1294b5948bce9aeb85
    dpdklab at iol.unh.edu 
    dpdklab at iol.unh.edu
       
    Wed Oct 25 17:50:00 CEST 2023
    
    
  
_Testing PASS_
Branch: dpdk-next-virtio
b713c210cf40e20e55fb2a1294b5948bce9aeb85 --> testing pass
Test environment and result as below:
+--------------------------+----------------+
|       Environment        | dpdk_unit_test |
+==========================+================+
| CentOS Stream 9 (ARM)    | PASS           |
+--------------------------+----------------+
| Debian 11 (Buster) (ARM) | PASS           |
+--------------------------+----------------+
| Fedora 37 (ARM)          | PASS           |
+--------------------------+----------------+
CentOS Stream 9 (ARM)
	Kernel: Container Host Kernel
	Compiler: gcc 11.3.1
Debian 11 (Buster) (ARM)
	Kernel: Container Host Kernel
	Compiler: gcc 10.2.1
Fedora 37 (ARM)
	Kernel: Depends on container host
	Compiler: gcc 12.3.1
To view detailed results, visit:
https://lab.dpdk.org/results/dashboard/tarballs/26644/
UNH-IOL DPDK Community Lab
To manage your email subscriptions, visit: 
https://lab.dpdk.org/results/dashboard/preferences/subscriptions/
    
    
More information about the test-report
mailing list