|SUCCESS| pw133316 [PATCH] net/mlx5/hws: fix integrity bits level
    dpdklab at iol.unh.edu 
    dpdklab at iol.unh.edu
       
    Thu Oct 26 05:34:48 CEST 2023
    
    
  
Test-Label: iol-unit-arm64-testing
Test-Status: SUCCESS
http://dpdk.org/patch/133316
_Testing PASS_
Submitter: Alexander Kozyrev <akozyrev at nvidia.com>
Date: Wednesday, October 25 2023 20:41:01 
DPDK git baseline: Repo:dpdk
  Branch: master
  CommitID:2a0557d1ea21c3f63a212385348c97c414970e81
133316 --> testing pass
Test environment and result as below:
+--------------------------+----------------+---------------------------+------------------------------+--------------+
|       Environment        | dpdk_unit_test | cryptodev_sw_zuc_autotest | cryptodev_sw_snow3g_autotest | lpm_autotest |
+==========================+================+===========================+==============================+==============+
| CentOS Stream 9 (ARM)    | PASS           | SKIPPED                   | SKIPPED                      | SKIPPED      |
+--------------------------+----------------+---------------------------+------------------------------+--------------+
| Debian 11 (Buster) (ARM) | PASS           | SKIPPED                   | SKIPPED                      | SKIPPED      |
+--------------------------+----------------+---------------------------+------------------------------+--------------+
| Fedora 38 (ARM)          | PASS           | SKIPPED                   | SKIPPED                      | SKIPPED      |
+--------------------------+----------------+---------------------------+------------------------------+--------------+
| Fedora 37 (ARM)          | PASS           | SKIPPED                   | SKIPPED                      | SKIPPED      |
+--------------------------+----------------+---------------------------+------------------------------+--------------+
| Ubuntu 20.04 (ARM)       | PASS           | SKIPPED                   | SKIPPED                      | SKIPPED      |
+--------------------------+----------------+---------------------------+------------------------------+--------------+
| Fedora 38 (ARM Clang)    | PASS           | SKIPPED                   | SKIPPED                      | SKIPPED      |
+--------------------------+----------------+---------------------------+------------------------------+--------------+
| Debian 11 (arm)          | SKIPPED        | PASS                      | PASS                         | SKIPPED      |
+--------------------------+----------------+---------------------------+------------------------------+--------------+
| Ubuntu 20.04 ARM SVE     | SKIPPED        | SKIPPED                   | SKIPPED                      | PASS         |
+--------------------------+----------------+---------------------------+------------------------------+--------------+
CentOS Stream 9 (ARM)
	Kernel: Container Host Kernel
	Compiler: gcc 11.3.1
Debian 11 (Buster) (ARM)
	Kernel: Container Host Kernel
	Compiler: gcc 10.2.1
Fedora 38 (ARM)
	Kernel: Depends on container host
	Compiler: gcc 13.1.1
Fedora 37 (ARM)
	Kernel: Depends on container host
	Compiler: gcc 12.3.1
Ubuntu 20.04 (ARM)
	Kernel: Container Host Kernel
	Compiler: gcc 9.4.0
Fedora 38 (ARM Clang)
	Kernel: Depends on container host
	Compiler: clang 16.0.3
Debian 11 (arm)
	Kernel: Container Host Kernel
	Compiler: gcc 10.2.1
Ubuntu 20.04 ARM SVE
	Kernel: 5.4.0-80-generic
	Compiler: gcc 10.3.0 (Ubuntu 10.3.0-1ubuntu1~20.04)
To view detailed results, visit:
https://lab.dpdk.org/results/dashboard/patchsets/28075/
UNH-IOL DPDK Community Lab
To manage your email subscriptions, visit: 
https://lab.dpdk.org/results/dashboard/preferences/subscriptions/
    
    
More information about the test-report
mailing list