|SUCCESS| pw133341-133365 [PATCH] [v3,25/25] doc: add a entry in the

dpdklab at iol.unh.edu dpdklab at iol.unh.edu
Thu Oct 26 09:43:05 CEST 2023


Test-Label: iol-unit-arm64-testing
Test-Status: SUCCESS
http://dpdk.org/patch/133365

_Testing PASS_

Submitter: Chaoyong He <chaoyong.he at corigine.com>
Date: Thursday, October 26 2023 06:43:24 
DPDK git baseline: Repo:dpdk-next-net
  Branch: master
  CommitID:02384bb8ec7d9cb9da4271d18a0b50e8bb413f4f

133341-133365 --> testing pass

Test environment and result as below:

+-----------------------+---------------------------+------------------------------+----------------+
|      Environment      | cryptodev_sw_zuc_autotest | cryptodev_sw_snow3g_autotest | dpdk_unit_test |
+=======================+===========================+==============================+================+
| Debian 11 (arm)       | PASS                      | PASS                         | SKIPPED        |
+-----------------------+---------------------------+------------------------------+----------------+
| CentOS Stream 9 (ARM) | SKIPPED                   | SKIPPED                      | PASS           |
+-----------------------+---------------------------+------------------------------+----------------+


Debian 11 (arm)
	Kernel: Container Host Kernel
	Compiler: gcc 10.2.1

CentOS Stream 9 (ARM)
	Kernel: Container Host Kernel
	Compiler: gcc 11.3.1

To view detailed results, visit:
https://lab.dpdk.org/results/dashboard/patchsets/28079/

UNH-IOL DPDK Community Lab

To manage your email subscriptions, visit: 
https://lab.dpdk.org/results/dashboard/preferences/subscriptions/


More information about the test-report mailing list