|SUCCESS| pw133386 [PATCH] [v2] app/dma-perf: fix lcores array out o

dpdklab at iol.unh.edu dpdklab at iol.unh.edu
Thu Oct 26 17:12:03 CEST 2023


Test-Label: iol-unit-arm64-testing
Test-Status: SUCCESS
http://dpdk.org/patch/133386

_Testing PASS_

Submitter: Mingjin Ye <mingjinx.ye at intel.com>
Date: Thursday, October 26 2023 09:53:13 
DPDK git baseline: Repo:dpdk
  Branch: master
  CommitID:2a0557d1ea21c3f63a212385348c97c414970e81

133386 --> testing pass

Test environment and result as below:

+--------------------------+----------------+------------------------------+---------------------------+
|       Environment        | dpdk_unit_test | cryptodev_sw_snow3g_autotest | cryptodev_sw_zuc_autotest |
+==========================+================+==============================+===========================+
| CentOS Stream 9 (ARM)    | PASS           | SKIPPED                      | SKIPPED                   |
+--------------------------+----------------+------------------------------+---------------------------+
| Debian 11 (Buster) (ARM) | PASS           | SKIPPED                      | SKIPPED                   |
+--------------------------+----------------+------------------------------+---------------------------+
| Fedora 37 (ARM)          | PASS           | SKIPPED                      | SKIPPED                   |
+--------------------------+----------------+------------------------------+---------------------------+
| Fedora 38 (ARM)          | PASS           | SKIPPED                      | SKIPPED                   |
+--------------------------+----------------+------------------------------+---------------------------+
| Ubuntu 20.04 (ARM)       | PASS           | SKIPPED                      | SKIPPED                   |
+--------------------------+----------------+------------------------------+---------------------------+
| Fedora 38 (ARM Clang)    | PASS           | SKIPPED                      | SKIPPED                   |
+--------------------------+----------------+------------------------------+---------------------------+
| Debian 11 (arm)          | SKIPPED        | PASS                         | PASS                      |
+--------------------------+----------------+------------------------------+---------------------------+


CentOS Stream 9 (ARM)
	Kernel: Container Host Kernel
	Compiler: gcc 11.3.1

Debian 11 (Buster) (ARM)
	Kernel: Container Host Kernel
	Compiler: gcc 10.2.1

Fedora 37 (ARM)
	Kernel: Depends on container host
	Compiler: gcc 12.3.1

Fedora 38 (ARM)
	Kernel: Depends on container host
	Compiler: gcc 13.1.1

Ubuntu 20.04 (ARM)
	Kernel: Container Host Kernel
	Compiler: gcc 9.4.0

Fedora 38 (ARM Clang)
	Kernel: Depends on container host
	Compiler: clang 16.0.3

Debian 11 (arm)
	Kernel: Container Host Kernel
	Compiler: gcc 10.2.1

To view detailed results, visit:
https://lab.dpdk.org/results/dashboard/patchsets/28088/

UNH-IOL DPDK Community Lab

To manage your email subscriptions, visit: 
https://lab.dpdk.org/results/dashboard/preferences/subscriptions/


More information about the test-report mailing list