|SUCCESS| pw133384 [PATCH] net/iavf: fix core dump when exiting test
    dpdklab at iol.unh.edu 
    dpdklab at iol.unh.edu
       
    Thu Oct 26 17:49:45 CEST 2023
    
    
  
Test-Label: iol-unit-arm64-testing
Test-Status: SUCCESS
http://dpdk.org/patch/133384
_Testing PASS_
Submitter: Kaiwen Deng <kaiwenx.deng at intel.com>
Date: Thursday, October 26 2023 08:54:44 
DPDK git baseline: Repo:dpdk
  Branch: master
  CommitID:2a0557d1ea21c3f63a212385348c97c414970e81
133384 --> testing pass
Test environment and result as below:
+--------------------------+---------------------------+------------------------------+----------------+
|       Environment        | cryptodev_sw_zuc_autotest | cryptodev_sw_snow3g_autotest | dpdk_unit_test |
+==========================+===========================+==============================+================+
| Debian 11 (arm)          | PASS                      | PASS                         | SKIPPED        |
+--------------------------+---------------------------+------------------------------+----------------+
| CentOS Stream 9 (ARM)    | SKIPPED                   | SKIPPED                      | PASS           |
+--------------------------+---------------------------+------------------------------+----------------+
| Debian 11 (Buster) (ARM) | SKIPPED                   | SKIPPED                      | PASS           |
+--------------------------+---------------------------+------------------------------+----------------+
| Fedora 37 (ARM)          | SKIPPED                   | SKIPPED                      | PASS           |
+--------------------------+---------------------------+------------------------------+----------------+
| Fedora 38 (ARM)          | SKIPPED                   | SKIPPED                      | PASS           |
+--------------------------+---------------------------+------------------------------+----------------+
| Ubuntu 20.04 (ARM)       | SKIPPED                   | SKIPPED                      | PASS           |
+--------------------------+---------------------------+------------------------------+----------------+
Debian 11 (arm)
	Kernel: Container Host Kernel
	Compiler: gcc 10.2.1
CentOS Stream 9 (ARM)
	Kernel: Container Host Kernel
	Compiler: gcc 11.3.1
Debian 11 (Buster) (ARM)
	Kernel: Container Host Kernel
	Compiler: gcc 10.2.1
Fedora 37 (ARM)
	Kernel: Depends on container host
	Compiler: gcc 12.3.1
Fedora 38 (ARM)
	Kernel: Depends on container host
	Compiler: gcc 13.1.1
Ubuntu 20.04 (ARM)
	Kernel: Container Host Kernel
	Compiler: gcc 9.4.0
To view detailed results, visit:
https://lab.dpdk.org/results/dashboard/patchsets/28086/
UNH-IOL DPDK Community Lab
To manage your email subscriptions, visit: 
https://lab.dpdk.org/results/dashboard/preferences/subscriptions/
    
    
More information about the test-report
mailing list