|SUCCESS| pw133444-133467 [PATCH] [v4,24/24] vdpa/nfp: add device op

dpdklab at iol.unh.edu dpdklab at iol.unh.edu
Fri Oct 27 11:45:44 CEST 2023


Test-Label: iol-unit-arm64-testing
Test-Status: SUCCESS
http://dpdk.org/patch/133467

_Testing PASS_

Submitter: Chaoyong He <chaoyong.he at corigine.com>
Date: Friday, October 27 2023 03:00:01 
DPDK git baseline: Repo:dpdk-next-net
  Branch: master
  CommitID:7fd6c31f938a33e1837bab2b14c2861bdd224b93

133444-133467 --> testing pass

Test environment and result as below:

+--------------------------+---------------------------+------------------------------+----------------+
|       Environment        | cryptodev_sw_zuc_autotest | cryptodev_sw_snow3g_autotest | dpdk_unit_test |
+==========================+===========================+==============================+================+
| Debian 11 (arm)          | PASS                      | PASS                         | SKIPPED        |
+--------------------------+---------------------------+------------------------------+----------------+
| CentOS Stream 9 (ARM)    | SKIPPED                   | SKIPPED                      | PASS           |
+--------------------------+---------------------------+------------------------------+----------------+
| Debian 11 (Buster) (ARM) | SKIPPED                   | SKIPPED                      | PASS           |
+--------------------------+---------------------------+------------------------------+----------------+
| Fedora 37 (ARM)          | SKIPPED                   | SKIPPED                      | PASS           |
+--------------------------+---------------------------+------------------------------+----------------+


Debian 11 (arm)
	Kernel: Container Host Kernel
	Compiler: gcc 10.2.1

CentOS Stream 9 (ARM)
	Kernel: Container Host Kernel
	Compiler: gcc 11.3.1

Debian 11 (Buster) (ARM)
	Kernel: Container Host Kernel
	Compiler: gcc 10.2.1

Fedora 37 (ARM)
	Kernel: Depends on container host
	Compiler: gcc 12.3.1

To view detailed results, visit:
https://lab.dpdk.org/results/dashboard/patchsets/28104/

UNH-IOL DPDK Community Lab

To manage your email subscriptions, visit: 
https://lab.dpdk.org/results/dashboard/preferences/subscriptions/


More information about the test-report mailing list