|SUCCESS| pw133481 [PATCH] [v6,1/1] eal/unix: allow creating thread
dpdklab at iol.unh.edu
dpdklab at iol.unh.edu
Fri Oct 27 13:13:50 CEST 2023
Test-Label: iol-compile-arm64-testing
Test-Status: SUCCESS
http://dpdk.org/patch/133481
_Testing PASS_
Submitter: Thomas Monjalon <thomas at monjalon.net>
Date: Friday, October 27 2023 08:08:52
DPDK git baseline: Repo:dpdk
Branch: master
CommitID:656dfad43136ef43f4315ab6ed45b78b68c287a7
133481 --> testing pass
Test environment and result as below:
+----------------------------------------+--------------------+
| Environment | dpdk_meson_compile |
+========================================+====================+
| Ubuntu 20.04 ARM SVE | PASS |
+----------------------------------------+--------------------+
| CentOS Stream 9 (ARM) | PASS |
+----------------------------------------+--------------------+
| Fedora 37 (ARM) | PASS |
+----------------------------------------+--------------------+
| Ubuntu 20.04 aarch32 GCC Cross Compile | PASS |
+----------------------------------------+--------------------+
Ubuntu 20.04 ARM SVE
Kernel: 5.4.0-80-generic
Compiler: gcc 10.3.0 (Ubuntu 10.3.0-1ubuntu1~20.04)
CentOS Stream 9 (ARM)
Kernel: Container Host Kernel
Compiler: gcc 11.3.1
Fedora 37 (ARM)
Kernel: Depends on container host
Compiler: gcc 12.3.1
Ubuntu 20.04 aarch32 GCC Cross Compile
Kernel: 5.4.0-72-generic
Compiler: gcc 9.3.0
To view detailed results, visit:
https://lab.dpdk.org/results/dashboard/patchsets/28109/
UNH-IOL DPDK Community Lab
To manage your email subscriptions, visit:
https://lab.dpdk.org/results/dashboard/preferences/subscriptions/
More information about the test-report
mailing list