|SUCCESS| [GIT MASTER] 1564a4b7e5632749fcc592254b69f9de11e06b94
dpdklab at iol.unh.edu
dpdklab at iol.unh.edu
Fri Oct 27 20:32:38 CEST 2023
_Testing PASS_
Branch: dpdk-next-net
1564a4b7e5632749fcc592254b69f9de11e06b94 --> testing pass
Test environment and result as below:
+-----------------+--------------------+
| Environment | dpdk_meson_compile |
+=================+====================+
| CentOS Stream 9 | PASS |
+-----------------+--------------------+
| CentOS Stream 8 | PASS |
+-----------------+--------------------+
| Fedora 38 | PASS |
+-----------------+--------------------+
| Debian Bullseye | PASS |
+-----------------+--------------------+
| FreeBSD 13 | PASS |
+-----------------+--------------------+
| Ubuntu 20.04 | PASS |
+-----------------+--------------------+
| Ubuntu 22.04 | PASS |
+-----------------+--------------------+
| RHEL8 | PASS |
+-----------------+--------------------+
CentOS Stream 9
Kernel: 4.18.0-240.10.1.el8_3.x86_64
Compiler: gcc 11.3.1 20220421
CentOS Stream 8
Kernel: 4.18.0-240.10.1.el8_3.x86_64
Compiler: gcc 8.4.1 20200928
Fedora 38
Kernel: Depends on container host
Compiler: gcc 13.1.1
Debian Bullseye
Kernel: 5.4.0-122-generic
Compiler: gcc 10.2.1-6
FreeBSD 13
Kernel: 13.0
Compiler: clang 11.0.1
Ubuntu 20.04
Kernel: 5.4.0-153-generic
Compiler: gcc 9.4.0-1ubuntu1~20.04.1
Ubuntu 22.04
Kernel: 4.18.0-240.10.1.el8_3.x86_64
Compiler: gcc 11.3.0
RHEL8
Kernel: 4.18.0-240.10.1.el8_3.x86_64
Compiler: gcc 8.3.1 20191121 (Red Hat 8.3.1-5)
To view detailed results, visit:
https://lab.dpdk.org/results/dashboard/tarballs/26694/
UNH-IOL DPDK Community Lab
To manage your email subscriptions, visit:
https://lab.dpdk.org/results/dashboard/preferences/subscriptions/
More information about the test-report
mailing list