|SUCCESS| pw133554 [PATCH] net/nfp: reduce space reserved for layer 
    dpdklab at iol.unh.edu 
    dpdklab at iol.unh.edu
       
    Sat Oct 28 09:43:46 CEST 2023
    
    
  
Test-Label: iol-compile-amd64-testing
Test-Status: SUCCESS
http://dpdk.org/patch/133554
_Testing PASS_
Submitter: Chaoyong He <chaoyong.he at corigine.com>
Date: Saturday, October 28 2023 06:26:51 
DPDK git baseline: Repo:dpdk-next-net
  Branch: master
  CommitID:1564a4b7e5632749fcc592254b69f9de11e06b94
133554 --> testing pass
Test environment and result as below:
+---------------------+--------------------+----------------------+
|     Environment     | dpdk_meson_compile | dpdk_mingw64_compile |
+=====================+====================+======================+
| FreeBSD 13          | PASS               | SKIPPED              |
+---------------------+--------------------+----------------------+
| Windows Server 2019 | PASS               | PASS                 |
+---------------------+--------------------+----------------------+
FreeBSD 13
	Kernel: 13.0
	Compiler: clang 11.0.1
Windows Server 2019
	Kernel: 10.0
	Compiler: clang 14.0 and gcc 8.1.0 (MinGW)
To view detailed results, visit:
https://lab.dpdk.org/results/dashboard/patchsets/28125/
UNH-IOL DPDK Community Lab
To manage your email subscriptions, visit: 
https://lab.dpdk.org/results/dashboard/preferences/subscriptions/
    
    
More information about the test-report
mailing list