|SUCCESS| [GIT MASTER] 656dfad43136ef43f4315ab6ed45b78b68c287a7

dpdklab at iol.unh.edu dpdklab at iol.unh.edu
Sun Oct 29 02:13:35 CET 2023


_Testing PASS_

Branch: dpdk

656dfad43136ef43f4315ab6ed45b78b68c287a7 --> testing pass

Test environment and result as below:

+---------------------+--------------------+
|     Environment     | dpdk_meson_compile |
+=====================+====================+
| CentOS Stream 9     | PASS               |
+---------------------+--------------------+
| FreeBSD 13          | PASS               |
+---------------------+--------------------+
| RHEL8               | PASS               |
+---------------------+--------------------+
| openSUSE Leap 15    | PASS               |
+---------------------+--------------------+
| Ubuntu 22.04        | PASS               |
+---------------------+--------------------+
| Ubuntu 20.04        | PASS               |
+---------------------+--------------------+
| Debian Buster       | PASS               |
+---------------------+--------------------+
| Debian Bullseye     | PASS               |
+---------------------+--------------------+
| Windows Server 2019 | PASS               |
+---------------------+--------------------+


CentOS Stream 9
	Kernel: 4.18.0-240.10.1.el8_3.x86_64
	Compiler: gcc 11.3.1 20220421

FreeBSD 13
	Kernel: 13.0
	Compiler: clang 11.0.1

RHEL8
	Kernel: 4.18.0-240.10.1.el8_3.x86_64
	Compiler: gcc 8.3.1 20191121 (Red Hat 8.3.1-5)

openSUSE Leap 15
	Kernel: 4.18.0-240.10.1.el8_3.x86_64
	Compiler: gcc 7.5.0

Ubuntu 22.04
	Kernel: 4.18.0-240.10.1.el8_3.x86_64
	Compiler: gcc 11.3.0

Ubuntu 20.04
	Kernel: 5.4.0-153-generic
	Compiler: gcc 9.4.0-1ubuntu1~20.04.1

Debian Buster
	Kernel: 5.4.0-122-generic
	Compiler: gcc 8.3.0-6

Debian Bullseye
	Kernel: 5.4.0-122-generic
	Compiler: gcc 10.2.1-6

Windows Server 2019
	Kernel: 10.0
	Compiler: clang 14.0 and gcc 8.1.0 (MinGW)

To view detailed results, visit:
https://lab.dpdk.org/results/dashboard/tarballs/26709/

UNH-IOL DPDK Community Lab

To manage your email subscriptions, visit: 
https://lab.dpdk.org/results/dashboard/preferences/subscriptions/


More information about the test-report mailing list