|SUCCESS| [GIT MASTER] 4e50ad4469f7c037e32de5aa3535d1cd25de0741
dpdklab at iol.unh.edu
dpdklab at iol.unh.edu
Sun Oct 29 06:52:03 CET 2023
_Testing PASS_
Branch: tags/v21.11
4e50ad4469f7c037e32de5aa3535d1cd25de0741 --> testing pass
Test environment and result as below:
+-----------------+----------+
| Environment | abi_test |
+=================+==========+
| Fedora 38 | PASS |
+-----------------+----------+
| RHEL8 | PASS |
+-----------------+----------+
| CentOS Stream 9 | PASS |
+-----------------+----------+
Fedora 38
Kernel: Depends on container host
Compiler: clang 16.0.3
RHEL8
Kernel: 4.18.0-240.10.1.el8_3.x86_64
Compiler: gcc 8.3.1 20191121 (Red Hat 8.3.1-5)
CentOS Stream 9
Kernel: 4.18.0-240.10.1.el8_3.x86_64
Compiler: gcc 11.3.1 20220421
To view detailed results, visit:
https://lab.dpdk.org/results/dashboard/tarballs/26711/
UNH-IOL DPDK Community Lab
To manage your email subscriptions, visit:
https://lab.dpdk.org/results/dashboard/preferences/subscriptions/
More information about the test-report
mailing list