|SUCCESS| pw133569 [PATCH] [v2] net/mlx5: add indirect encap decap s

dpdklab at iol.unh.edu dpdklab at iol.unh.edu
Sun Oct 29 12:02:38 CET 2023


Test-Label: iol-unit-amd64-testing
Test-Status: SUCCESS
http://dpdk.org/patch/133569

_Testing PASS_

Submitter: Rongwei Liu <rongweil at nvidia.com>
Date: Sunday, October 29 2023 10:09:56 
DPDK git baseline: Repo:dpdk-next-net-mlx
  Branch: master
  CommitID:c5195f9df1508e5aff4b877a1a6ccb50085f4f72

133569 --> testing pass

Test environment and result as below:

+---------------------+----------------+
|     Environment     | dpdk_unit_test |
+=====================+================+
| CentOS Stream 8     | PASS           |
+---------------------+----------------+
| Windows Server 2019 | PASS           |
+---------------------+----------------+
| CentOS Stream 9     | PASS           |
+---------------------+----------------+


CentOS Stream 8
	Kernel: 4.18.0-240.10.1.el8_3.x86_64
	Compiler: gcc 8.4.1 20200928

Windows Server 2019
	Kernel: 10.0
	Compiler: clang 14.0 and gcc 8.1.0 (MinGW)

CentOS Stream 9
	Kernel: 4.18.0-240.10.1.el8_3.x86_64
	Compiler: gcc 11.3.1 20220421

To view detailed results, visit:
https://lab.dpdk.org/results/dashboard/patchsets/28130/

UNH-IOL DPDK Community Lab

To manage your email subscriptions, visit: 
https://lab.dpdk.org/results/dashboard/preferences/subscriptions/


More information about the test-report mailing list