|SUCCESS| pw133571 [PATCH] [v3] net/mlx5: add indirect encap decap s

dpdklab at iol.unh.edu dpdklab at iol.unh.edu
Sun Oct 29 14:37:52 CET 2023


Test-Label: iol-unit-amd64-testing
Test-Status: SUCCESS
http://dpdk.org/patch/133571

_Testing PASS_

Submitter: Rongwei Liu <rongweil at nvidia.com>
Date: Sunday, October 29 2023 12:53:48 
DPDK git baseline: Repo:dpdk-next-net-mlx
  Branch: master
  CommitID:c5195f9df1508e5aff4b877a1a6ccb50085f4f72

133571 --> testing pass

Test environment and result as below:

+-----------------+----------------+
|   Environment   | dpdk_unit_test |
+=================+================+
| CentOS Stream 8 | PASS           |
+-----------------+----------------+
| CentOS Stream 9 | PASS           |
+-----------------+----------------+
| Debian Bullseye | PASS           |
+-----------------+----------------+


CentOS Stream 8
	Kernel: 4.18.0-240.10.1.el8_3.x86_64
	Compiler: gcc 8.4.1 20200928

CentOS Stream 9
	Kernel: 4.18.0-240.10.1.el8_3.x86_64
	Compiler: gcc 11.3.1 20220421

Debian Bullseye
	Kernel: 5.4.0-122-generic
	Compiler: gcc 10.2.1-6

To view detailed results, visit:
https://lab.dpdk.org/results/dashboard/patchsets/28131/

UNH-IOL DPDK Community Lab

To manage your email subscriptions, visit: 
https://lab.dpdk.org/results/dashboard/preferences/subscriptions/


More information about the test-report mailing list