|SUCCESS| pw133572 [PATCH] [v1,1/1] ml/cnxk: fix updating internal I
    dpdklab at iol.unh.edu 
    dpdklab at iol.unh.edu
       
    Sun Oct 29 18:26:39 CET 2023
    
    
  
Test-Label: iol-unit-arm64-testing
Test-Status: SUCCESS
http://dpdk.org/patch/133572
_Testing PASS_
Submitter: Srikanth Yalavarthi <syalavarthi at marvell.com>
Date: Sunday, October 29 2023 13:25:08 
DPDK git baseline: Repo:dpdk-next-net-mrvl
  Branch: master
  CommitID:84b6256087af629c76cb879a8ecfbe36039ce3fb
133572 --> testing pass
Test environment and result as below:
+-----------------------+------------------------------+---------------------------+--------------+----------------+
|      Environment      | cryptodev_sw_snow3g_autotest | cryptodev_sw_zuc_autotest | lpm_autotest | dpdk_unit_test |
+=======================+==============================+===========================+==============+================+
| Debian 11 (arm)       | PASS                         | PASS                      | SKIPPED      | SKIPPED        |
+-----------------------+------------------------------+---------------------------+--------------+----------------+
| Ubuntu 20.04 ARM SVE  | SKIPPED                      | SKIPPED                   | PASS         | SKIPPED        |
+-----------------------+------------------------------+---------------------------+--------------+----------------+
| CentOS Stream 9 (ARM) | SKIPPED                      | SKIPPED                   | SKIPPED      | PASS           |
+-----------------------+------------------------------+---------------------------+--------------+----------------+
| Fedora 37 (ARM)       | SKIPPED                      | SKIPPED                   | SKIPPED      | PASS           |
+-----------------------+------------------------------+---------------------------+--------------+----------------+
| Fedora 38 (ARM)       | SKIPPED                      | SKIPPED                   | SKIPPED      | PASS           |
+-----------------------+------------------------------+---------------------------+--------------+----------------+
Debian 11 (arm)
	Kernel: Container Host Kernel
	Compiler: gcc 10.2.1
Ubuntu 20.04 ARM SVE
	Kernel: 5.4.0-80-generic
	Compiler: gcc 10.3.0 (Ubuntu 10.3.0-1ubuntu1~20.04)
CentOS Stream 9 (ARM)
	Kernel: Container Host Kernel
	Compiler: gcc 11.3.1
Fedora 37 (ARM)
	Kernel: Depends on container host
	Compiler: gcc 12.3.1
Fedora 38 (ARM)
	Kernel: Depends on container host
	Compiler: gcc 13.1.1
To view detailed results, visit:
https://lab.dpdk.org/results/dashboard/patchsets/28132/
UNH-IOL DPDK Community Lab
To manage your email subscriptions, visit: 
https://lab.dpdk.org/results/dashboard/preferences/subscriptions/
    
    
More information about the test-report
mailing list