|SUCCESS| pw133574-133603 [PATCH] [30/30] net/mlx5/hws: add stc repa

dpdklab at iol.unh.edu dpdklab at iol.unh.edu
Sun Oct 29 18:31:06 CET 2023


Test-Label: iol-unit-amd64-testing
Test-Status: SUCCESS
http://dpdk.org/patch/133603

_Testing PASS_

Submitter: Gregory Etelson <getelson at nvidia.com>
Date: Sunday, October 29 2023 16:32:02 
DPDK git baseline: Repo:dpdk-next-net-mlx
  Branch: master
  CommitID:c5195f9df1508e5aff4b877a1a6ccb50085f4f72

133574-133603 --> testing pass

Test environment and result as below:

+---------------------+----------------+
|     Environment     | dpdk_unit_test |
+=====================+================+
| Debian Bullseye     | PASS           |
+---------------------+----------------+
| Windows Server 2019 | PASS           |
+---------------------+----------------+
| Fedora 38           | PASS           |
+---------------------+----------------+


Debian Bullseye
	Kernel: 5.4.0-122-generic
	Compiler: gcc 10.2.1-6

Windows Server 2019
	Kernel: 10.0
	Compiler: clang 14.0 and gcc 8.1.0 (MinGW)

Fedora 38
	Kernel: Depends on container host
	Compiler: clang 16.0.3

To view detailed results, visit:
https://lab.dpdk.org/results/dashboard/patchsets/28134/

UNH-IOL DPDK Community Lab

To manage your email subscriptions, visit: 
https://lab.dpdk.org/results/dashboard/preferences/subscriptions/


More information about the test-report mailing list