|SUCCESS| pw133604 [PATCH] ethdev: fix RTE_FLOW_PORT_FLAG_SHARE_INDI
    dpdklab at iol.unh.edu 
    dpdklab at iol.unh.edu
       
    Sun Oct 29 19:47:38 CET 2023
    
    
  
Test-Label: iol-unit-amd64-testing
Test-Status: SUCCESS
http://dpdk.org/patch/133604
_Testing PASS_
Submitter: Gregory Etelson <getelson at nvidia.com>
Date: Sunday, October 29 2023 17:53:30 
DPDK git baseline: Repo:dpdk
  Branch: master
  CommitID:656dfad43136ef43f4315ab6ed45b78b68c287a7
133604 --> testing pass
Test environment and result as below:
+---------------------+----------------+
|     Environment     | dpdk_unit_test |
+=====================+================+
| Windows Server 2019 | PASS           |
+---------------------+----------------+
| CentOS Stream 8     | PASS           |
+---------------------+----------------+
| CentOS Stream 9     | PASS           |
+---------------------+----------------+
| Debian Buster       | PASS           |
+---------------------+----------------+
| Fedora 38           | PASS           |
+---------------------+----------------+
Windows Server 2019
	Kernel: 10.0
	Compiler: clang 14.0 and gcc 8.1.0 (MinGW)
CentOS Stream 8
	Kernel: 4.18.0-240.10.1.el8_3.x86_64
	Compiler: gcc 8.4.1 20200928
CentOS Stream 9
	Kernel: 4.18.0-240.10.1.el8_3.x86_64
	Compiler: gcc 11.3.1 20220421
Debian Buster
	Kernel: 5.4.0-122-generic
	Compiler: gcc 8.3.0-6
Fedora 38
	Kernel: Depends on container host
	Compiler: gcc 13.1.1
To view detailed results, visit:
https://lab.dpdk.org/results/dashboard/patchsets/28135/
UNH-IOL DPDK Community Lab
To manage your email subscriptions, visit: 
https://lab.dpdk.org/results/dashboard/preferences/subscriptions/
    
    
More information about the test-report
mailing list