|SUCCESS| [GIT MASTER] 8fa22e1f79aae7dfc7a9eb77034e555e155e5e2a
dpdklab at iol.unh.edu
dpdklab at iol.unh.edu
Mon Oct 30 02:19:14 CET 2023
_Testing PASS_
Branch: dpdk
8fa22e1f79aae7dfc7a9eb77034e555e155e5e2a --> testing pass
Test environment and result as below:
+-----------------+----------------+
| Environment | dpdk_unit_test |
+=================+================+
| Arch Linux | PASS |
+-----------------+----------------+
| CentOS Stream 8 | PASS |
+-----------------+----------------+
| Debian Buster | PASS |
+-----------------+----------------+
| CentOS Stream 9 | PASS |
+-----------------+----------------+
| Debian Bullseye | PASS |
+-----------------+----------------+
| Fedora 38 | PASS |
+-----------------+----------------+
Arch Linux
Kernel: 5.4.0-73-generic
Compiler: gcc 11.1.0
CentOS Stream 8
Kernel: 4.18.0-240.10.1.el8_3.x86_64
Compiler: gcc 8.4.1 20200928
Debian Buster
Kernel: 5.4.0-122-generic
Compiler: gcc 8.3.0-6
CentOS Stream 9
Kernel: 4.18.0-240.10.1.el8_3.x86_64
Compiler: gcc 11.3.1 20220421
Debian Bullseye
Kernel: 5.4.0-122-generic
Compiler: gcc 10.2.1-6
Fedora 38
Kernel: Depends on container host
Compiler: gcc 13.1.1
To view detailed results, visit:
https://lab.dpdk.org/results/dashboard/tarballs/26720/
UNH-IOL DPDK Community Lab
To manage your email subscriptions, visit:
https://lab.dpdk.org/results/dashboard/preferences/subscriptions/
More information about the test-report
mailing list