|SUCCESS| pw133618 [PATCH] [v2] net/cpfl: support action prog
    dpdklab at iol.unh.edu 
    dpdklab at iol.unh.edu
       
    Mon Oct 30 04:03:57 CET 2023
    
    
  
Test-Label: iol-unit-arm64-testing
Test-Status: SUCCESS
http://dpdk.org/patch/133618
_Testing PASS_
Submitter: Wenjing Qiao <wenjing.qiao at intel.com>
Date: Monday, October 30 2023 02:13:26 
DPDK git baseline: Repo:dpdk-next-net-intel
  Branch: master
  CommitID:a9798b365515bc45dfdcafc4bcad2dae5599db56
133618 --> testing pass
Test environment and result as below:
+--------------------------+----------------+------------------------------+---------------------------+
|       Environment        | dpdk_unit_test | cryptodev_sw_snow3g_autotest | cryptodev_sw_zuc_autotest |
+==========================+================+==============================+===========================+
| CentOS Stream 9 (ARM)    | PASS           | SKIPPED                      | SKIPPED                   |
+--------------------------+----------------+------------------------------+---------------------------+
| Fedora 37 (ARM)          | PASS           | SKIPPED                      | SKIPPED                   |
+--------------------------+----------------+------------------------------+---------------------------+
| Fedora 38 (ARM)          | PASS           | SKIPPED                      | SKIPPED                   |
+--------------------------+----------------+------------------------------+---------------------------+
| Debian 11 (Buster) (ARM) | PASS           | SKIPPED                      | SKIPPED                   |
+--------------------------+----------------+------------------------------+---------------------------+
| Debian 11 (arm)          | SKIPPED        | PASS                         | PASS                      |
+--------------------------+----------------+------------------------------+---------------------------+
CentOS Stream 9 (ARM)
	Kernel: Container Host Kernel
	Compiler: gcc 11.3.1
Fedora 37 (ARM)
	Kernel: Depends on container host
	Compiler: gcc 12.3.1
Fedora 38 (ARM)
	Kernel: Depends on container host
	Compiler: gcc 13.1.1
Debian 11 (Buster) (ARM)
	Kernel: Container Host Kernel
	Compiler: gcc 10.2.1
Debian 11 (arm)
	Kernel: Container Host Kernel
	Compiler: gcc 10.2.1
To view detailed results, visit:
https://lab.dpdk.org/results/dashboard/patchsets/28137/
UNH-IOL DPDK Community Lab
To manage your email subscriptions, visit: 
https://lab.dpdk.org/results/dashboard/preferences/subscriptions/
    
    
More information about the test-report
mailing list