|SUCCESS| pw133605-133616 [PATCH] [13/13] net/mlx5: add validation s

dpdklab at iol.unh.edu dpdklab at iol.unh.edu
Mon Oct 30 04:39:56 CET 2023


Test-Label: iol-unit-arm64-testing
Test-Status: SUCCESS
http://dpdk.org/patch/133616

_Testing PASS_

Submitter: Gregory Etelson <getelson at nvidia.com>
Date: Sunday, October 29 2023 18:23:00 
DPDK git baseline: Repo:dpdk-next-net-mlx
  Branch: master
  CommitID:8696ae5520ec11d80497f351432031f70e359393

133605-133616 --> testing pass

Test environment and result as below:

+--------------------------+----------------+---------------------------+------------------------------+
|       Environment        | dpdk_unit_test | cryptodev_sw_zuc_autotest | cryptodev_sw_snow3g_autotest |
+==========================+================+===========================+==============================+
| CentOS Stream 9 (ARM)    | PASS           | SKIPPED                   | SKIPPED                      |
+--------------------------+----------------+---------------------------+------------------------------+
| Debian 11 (Buster) (ARM) | PASS           | SKIPPED                   | SKIPPED                      |
+--------------------------+----------------+---------------------------+------------------------------+
| Fedora 37 (ARM)          | PASS           | SKIPPED                   | SKIPPED                      |
+--------------------------+----------------+---------------------------+------------------------------+
| Fedora 38 (ARM)          | PASS           | SKIPPED                   | SKIPPED                      |
+--------------------------+----------------+---------------------------+------------------------------+
| Ubuntu 20.04 (ARM)       | PASS           | SKIPPED                   | SKIPPED                      |
+--------------------------+----------------+---------------------------+------------------------------+
| Debian 11 (arm)          | SKIPPED        | PASS                      | PASS                         |
+--------------------------+----------------+---------------------------+------------------------------+


CentOS Stream 9 (ARM)
	Kernel: Container Host Kernel
	Compiler: gcc 11.3.1

Debian 11 (Buster) (ARM)
	Kernel: Container Host Kernel
	Compiler: gcc 10.2.1

Fedora 37 (ARM)
	Kernel: Depends on container host
	Compiler: gcc 12.3.1

Fedora 38 (ARM)
	Kernel: Depends on container host
	Compiler: gcc 13.1.1

Ubuntu 20.04 (ARM)
	Kernel: Container Host Kernel
	Compiler: gcc 9.4.0

Debian 11 (arm)
	Kernel: Container Host Kernel
	Compiler: gcc 10.2.1

To view detailed results, visit:
https://lab.dpdk.org/results/dashboard/patchsets/28136/

UNH-IOL DPDK Community Lab

To manage your email subscriptions, visit: 
https://lab.dpdk.org/results/dashboard/preferences/subscriptions/


More information about the test-report mailing list